BEGIN:VCALENDAR
VERSION:2.0
PRODID:-//wp-events-plugin.com//7.2.3.1//EN
TZID:Asia/Kuala_Lumpur
X-WR-TIMEZONE:Asia/Kuala_Lumpur
BEGIN:VEVENT
UID:25@apacph.org
DTSTART;TZID=Asia/Kolkata:20250425T080000
DTEND;TZID=Asia/Kolkata:20250427T170000
DTSTAMP:20250210T040730Z
URL:https://www.apacph.org/wp/events/world-health-summit-regional-meeting-
 in-new-delhi/
SUMMARY:World Health Summit Regional Meeting in New Delhi
DESCRIPTION:Public health researchers\, educators\, and practitioners are i
 nvited to join the World Health Summit (WHS) Regional Meeting in New Delhi
 \, April 25-27\, 2025. With more than 400 speakers from over 100 countries
 \, the WHS Regional Meeting is a unique global forum for strategic discuss
 ion on initiatives and dialogues on international and regional issues impa
 cting health and development. The WHS Regional Meeting 2025 will focus on 
 the theme "Scaling Access to Ensure Health Equity”.\n\n&nbsp\;\n\nThe ce
 ntral topics for the WHS Regional Meeting 2025 are:\n\n 	Digital health an
 d AI futures\n 	Future of health\n 	Health diplomacy and cooperation\n 	Cl
 imate change and planetary health\n 	Innovation and leadership\n 	Health a
 nd peace\n 	Communication and healthcare\n 	Women and children health\n\nT
 he Global Network for Academic Public Health (GNAPH) will co-host a sessio
 n with the University of Memphis School of Public Health on Public Health 
 Diplomacy: An emerging public health competency towards consensus building
 \, negotiations and multi-lateral partnerships. This session will explore 
 the critical role of public health diplomacy and highlight the importance 
 of equipping public health students with the competencies -skills\, and ex
 pertise- needed to navigate this evolving field effectively.\n\nJoin globa
 l experts at the WHS Regional Meeting 2025 to innovate\, collaborate\, and
  transform health outcomes for communities worldwide.
ATTACH;FMTTYPE=image/jpeg:https://i0.wp.com/www.apacph.org/wp/wp-content/u
 ploads/2025/02/WHS-Regional-Meeting-2025-India.png?fit=908%2C519&ssl=1
CATEGORIES:Conference
LOCATION:Bharat Mandapam\, New Delhi\, India\, Appu Ghar\, Pragati Maidan\,
 \, New Delhi\, Delhi\, 110001\, India
X-APPLE-STRUCTURED-LOCATION;VALUE=URI;X-ADDRESS=Appu Ghar\, Pragati Maidan\
 ,\, New Delhi\, Delhi\, 110001\, India;X-APPLE-RADIUS=100;X-TITLE=Bharat M
 andapam\, New Delhi\, India:geo:0,0
END:VEVENT
BEGIN:VTIMEZONE
TZID:Asia/Kolkata
X-LIC-LOCATION:Asia/Kolkata
BEGIN:STANDARD
DTSTART:20240425T080000
TZOFFSETFROM:+0530
TZOFFSETTO:+0530
TZNAME:IST
END:STANDARD
END:VTIMEZONE
END:VCALENDAR