BEGIN:VCALENDAR
VERSION:2.0
PRODID:-//wp-events-plugin.com//7.2.3.1//EN
TZID:Asia/Kuala_Lumpur
X-WR-TIMEZONE:Asia/Kuala_Lumpur
BEGIN:VEVENT
UID:16@apacph.org
DTSTART;TZID=Asia/Kuala_Lumpur:20171007T083000
DTEND;TZID=Asia/Kuala_Lumpur:20171007T170000
DTSTAMP:20170907T103452Z
URL:https://www.apacph.org/wp/events/workshop-on-systematic-reviews-and-me
 ta-analysis-for-health-care-professionals-using-open-meta-analyst/
SUMMARY:Workshop on Systematic Reviews and Meta-analysis for Health care pr
 ofessionals using Open Meta-analyst
DESCRIPTION:The Royal College of Medicine\, University Kuala Lumpur an Inst
 itutional Member of APACPH will be organising the "Workshop on Systematic 
 Reviews and Meta-analysis for Health care professionals using Open Meta-an
 alyst" on the 7 October 2017 (Saturday) at the Universiti Kuala Lumpur\, R
 oyal College of Medicine Perak (UniKL RCMP)\, in Ipoh Perak.
LOCATION:University Kuala Lumpur Royal College of Medicine Perak (UniKL RCM
 P)\, 3\, Jalan Greentown\, Ipoh\, Malaysia
GEO:4.6019592;101.09207390000006
X-APPLE-STRUCTURED-LOCATION;VALUE=URI;X-ADDRESS=3\, Jalan Greentown\, Ipoh\
 , Malaysia;X-APPLE-RADIUS=100;X-TITLE=University Kuala Lumpur Royal Colleg
 e of Medicine Perak (UniKL RCMP):geo:4.6019592,101.09207390000006
END:VEVENT
BEGIN:VTIMEZONE
TZID:Asia/Kuala_Lumpur
X-LIC-LOCATION:Asia/Kuala_Lumpur
BEGIN:STANDARD
DTSTART:20161007T083000
TZOFFSETFROM:+0800
TZOFFSETTO:+0800
TZNAME:+08
END:STANDARD
END:VTIMEZONE
END:VCALENDAR