BEGIN:VCALENDAR
VERSION:2.0
PRODID:-//wp-events-plugin.com//7.2.3.1//EN
TZID:Asia/Kuala_Lumpur
X-WR-TIMEZONE:Asia/Kuala_Lumpur
BEGIN:VEVENT
UID:22@apacph.org
DTSTART;TZID=Asia/Taipei:20240806T140000
DTEND;TZID=Asia/Taipei:20240806T171500
DTSTAMP:20240702T022144Z
URL:https://www.apacph.org/wp/events/workshop-health-promotion-and-lung-ca
 ncer-prevention-strategies-in-the-asia-pacific-region/
SUMMARY:Workshop: Health Promotion and Lung Cancer Prevention Strategies in
  the Asia Pacific Region
DESCRIPTION:We are delighted to invite you to participate in our upcoming w
 orkshop on “Health Promotion and Lung Cancer Prevention Strategies in t
 he Asia Pacific Region.” This event promises to be an inspiring and info
 rmative gathering\, featuring five excellent and inspiring lectures by ren
 owned international speakers. We will be discussing on the cutting-edge ap
 proaches and policies for preventing non-communicable diseases and promoti
 ng health\, with a focus on lung cancer prevention\, health promotion poli
 cies\, and the role of AI in public health. Please find more details of th
 e event here.\n\n
CATEGORIES:Workshop
END:VEVENT
BEGIN:VTIMEZONE
TZID:Asia/Taipei
X-LIC-LOCATION:Asia/Taipei
BEGIN:STANDARD
DTSTART:20230807T140000
TZOFFSETFROM:+0800
TZOFFSETTO:+0800
TZNAME:CST
END:STANDARD
END:VTIMEZONE
END:VCALENDAR