BEGIN:VCALENDAR
VERSION:2.0
PRODID:-//wp-events-plugin.com//7.2.3.1//EN
TZID:Asia/Kuala_Lumpur
X-WR-TIMEZONE:Asia/Kuala_Lumpur
BEGIN:VEVENT
UID:4@apacph.org
DTSTART;TZID=Asia/Kuala_Lumpur:20160916T090000
DTEND;TZID=Asia/Kuala_Lumpur:20160916T160000
DTSTAMP:20160910T083134Z
URL:https://www.apacph.org/wp/events/tokyo-2016-workshop-4-global-health/
SUMMARY:Tokyo 2016 Workshop 4 - Global Health
DESCRIPTION:Global health has become a very popular area of learning\, teac
 hing\, research and practice in many departments and schools of public hea
 lth all over the world. It is now a mainstream subject area in many Asia-P
 acific public health educational institutions. This workshop is being cond
 ucted to provide a better understanding and perspective of global health t
 o various students\, lecturers and program directors of schools of public 
 health. It will give new insights to those interested in the field of glob
 al health. This workshop will also be beneficial to those who plan to set 
 up modules and programs in global health and those who intend to start a g
 lobal health research agenda in their respective institutions. Resources w
 ill be shared with the participants. Certificates will be provided after w
 orkshop.
ATTACH;FMTTYPE=image/jpeg:https://i0.wp.com/www.apacph.org/wp/wp-content/u
 ploads/2016/09/apacph2016.png?fit=699%2C688&ssl=1
CATEGORIES:Tokyo 2016,Workshop
LOCATION:Teikyo University Itabashi-Campus\, Teikyo University\, Itabashi\,
  Tokyo\, Japan
GEO:35.75889634409177;139.7139643878662
X-APPLE-STRUCTURED-LOCATION;VALUE=URI;X-ADDRESS=Teikyo University\, Itabash
 i\, Tokyo\, Japan;X-APPLE-RADIUS=100;X-TITLE=Teikyo University Itabashi-Ca
 mpus:geo:35.75889634409177,139.7139643878662
END:VEVENT
BEGIN:VTIMEZONE
TZID:Asia/Kuala_Lumpur
X-LIC-LOCATION:Asia/Kuala_Lumpur
BEGIN:STANDARD
DTSTART:20150917T090000
TZOFFSETFROM:+0800
TZOFFSETTO:+0800
TZNAME:+08
END:STANDARD
END:VTIMEZONE
END:VCALENDAR