BEGIN:VCALENDAR
VERSION:2.0
PRODID:-//wp-events-plugin.com//7.2.3.1//EN
TZID:Asia/Kuala_Lumpur
X-WR-TIMEZONE:Asia/Kuala_Lumpur
BEGIN:VEVENT
UID:3@apacph.org
DTSTART;TZID=Asia/Kuala_Lumpur:20160916T140000
DTEND;TZID=Asia/Kuala_Lumpur:20160916T170000
DTSTAMP:20160910T083515Z
URL:https://www.apacph.org/wp/events/tokyo-2016-workshop-3-early-career-ne
 twork-ecn-workshop-interpretation-of-statistical-findings-in-scientific-li
 terature/
SUMMARY:Tokyo 2016 Workshop 3 - Early Career Network (ECN) Workshop Interpr
 etation of Statistical Findings in Scientific Literature
DESCRIPTION:At the end of the workshop the participants should be able to d
 etermine appropriate statistical tools to address different research desig
 n\, discuss the basic principles of a meta–analysis and interpret the st
 atistics presented in a research article.
ATTACH;FMTTYPE=image/jpeg:https://i0.wp.com/www.apacph.org/wp/wp-content/u
 ploads/2016/09/apacph2016.png?fit=699%2C688&ssl=1
CATEGORIES:Tokyo 2016,Workshop
LOCATION:Teikyo University Itabashi-Campus\, Teikyo University\, Itabashi\,
  Tokyo\, Japan
GEO:35.75889634409177;139.7139643878662
X-APPLE-STRUCTURED-LOCATION;VALUE=URI;X-ADDRESS=Teikyo University\, Itabash
 i\, Tokyo\, Japan;X-APPLE-RADIUS=100;X-TITLE=Teikyo University Itabashi-Ca
 mpus:geo:35.75889634409177,139.7139643878662
END:VEVENT
BEGIN:VTIMEZONE
TZID:Asia/Kuala_Lumpur
X-LIC-LOCATION:Asia/Kuala_Lumpur
BEGIN:STANDARD
DTSTART:20150917T140000
TZOFFSETFROM:+0800
TZOFFSETTO:+0800
TZNAME:+08
END:STANDARD
END:VTIMEZONE
END:VCALENDAR