BEGIN:VCALENDAR
VERSION:2.0
PRODID:-//wp-events-plugin.com//7.2.3.1//EN
TZID:Asia/Kuala_Lumpur
X-WR-TIMEZONE:Asia/Kuala_Lumpur
BEGIN:VEVENT
UID:2@apacph.org
DTSTART;TZID=Asia/Kuala_Lumpur:20160916T083000
DTEND;TZID=Asia/Kuala_Lumpur:20160916T123000
DTSTAMP:20160910T083456Z
URL:https://www.apacph.org/wp/events/tokyo-2016-workshop-2-workshop-on-die
 tary-guidelines-for-the-apacph-region/
SUMMARY:Tokyo 2016 Workshop 2 - Workshop on Dietary Guidelines for the APAC
 PH region
DESCRIPTION:Workshop to discuss Food Based Dietary Guidelines for the APACP
 H Region. Much of the burden of disease\, early deaths and disability\, in
  the Asia Pacific Region could be reduced with public health efforts to ad
 dress the major risk factors\, including nutrition related causes and smok
 ing.\n
ATTACH;FMTTYPE=image/jpeg:https://i0.wp.com/www.apacph.org/wp/wp-content/u
 ploads/2016/09/apacph2016.png?fit=699%2C688&ssl=1
CATEGORIES:Tokyo 2016,Workshop
LOCATION:Teikyo University Itabashi-Campus\, Teikyo University\, Itabashi\,
  Tokyo\, Japan
GEO:35.75889634409177;139.7139643878662
X-APPLE-STRUCTURED-LOCATION;VALUE=URI;X-ADDRESS=Teikyo University\, Itabash
 i\, Tokyo\, Japan;X-APPLE-RADIUS=100;X-TITLE=Teikyo University Itabashi-Ca
 mpus:geo:35.75889634409177,139.7139643878662
END:VEVENT
BEGIN:VTIMEZONE
TZID:Asia/Kuala_Lumpur
X-LIC-LOCATION:Asia/Kuala_Lumpur
BEGIN:STANDARD
DTSTART:20150917T083000
TZOFFSETFROM:+0800
TZOFFSETTO:+0800
TZNAME:+08
END:STANDARD
END:VTIMEZONE
END:VCALENDAR