BEGIN:VCALENDAR
VERSION:2.0
PRODID:-//wp-events-plugin.com//7.2.3.1//EN
TZID:Asia/Kuala_Lumpur
X-WR-TIMEZONE:Asia/Kuala_Lumpur
BEGIN:VEVENT
UID:7@apacph.org
DTSTART;TZID=Asia/Kuala_Lumpur:20160917T133000
DTEND;TZID=Asia/Kuala_Lumpur:20160917T153000
DTSTAMP:20160910T090548Z
URL:https://www.apacph.org/wp/events/symposium-1-public-health-law-and-eth
 ics-legislating-social-health-insurance-for-universal-health-coverage-uhc/
SUMMARY:Symposium 1 - Public health law and ethics: Legislating social heal
 th insurance for Universal Health Coverage (UHC)
DESCRIPTION:Symposium 1 - Public health law and ethics: Legislating social 
 health insurance for Universal Health Coverage (UHC)
ATTACH;FMTTYPE=image/jpeg:https://i0.wp.com/www.apacph.org/wp/wp-content/u
 ploads/2016/09/apacph2016.png?fit=699%2C688&ssl=1
CATEGORIES:Symposium,Tokyo 2016
LOCATION:Teikyo University Itabashi-Campus\, Teikyo University\, Itabashi\,
  Tokyo\, Japan
GEO:35.75889634409177;139.7139643878662
X-APPLE-STRUCTURED-LOCATION;VALUE=URI;X-ADDRESS=Teikyo University\, Itabash
 i\, Tokyo\, Japan;X-APPLE-RADIUS=100;X-TITLE=Teikyo University Itabashi-Ca
 mpus:geo:35.75889634409177,139.7139643878662
END:VEVENT
BEGIN:VTIMEZONE
TZID:Asia/Kuala_Lumpur
X-LIC-LOCATION:Asia/Kuala_Lumpur
BEGIN:STANDARD
DTSTART:20150918T133000
TZOFFSETFROM:+0800
TZOFFSETTO:+0800
TZNAME:+08
END:STANDARD
END:VTIMEZONE
END:VCALENDAR