BEGIN:VCALENDAR
VERSION:2.0
PRODID:-//wp-events-plugin.com//7.2.3.1//EN
TZID:Asia/Kuala_Lumpur
X-WR-TIMEZONE:Asia/Kuala_Lumpur
BEGIN:VEVENT
UID:23@apacph.org
DTSTART;TZID=Asia/Kuala_Lumpur:20240903T093000
DTEND;TZID=Asia/Kuala_Lumpur:20240905T160000
DTSTAMP:20240704T060714Z
URL:https://www.apacph.org/wp/events/health-economics-workshop/
SUMMARY:Health Economics Workshop
DESCRIPTION:The Asia-Pacific Academic Consortium for Public Health and the 
 Centre for Epidemiology and Evidence-Based Practice (CeBP)\, Department of
  Social and Preventive Medicine\, Faculty of Medicine\, Universiti Malaya 
 will be organising a 3-Day Health Economics Workshop on the essentials of 
 health economics and health financing. The workshop will include sessions 
 that focus on the application of critical concepts to real-time decision-m
 aking using healthcare economics and financing tools.\n\nClick here for mo
 re information.
CATEGORIES:Workshop
END:VEVENT
BEGIN:VTIMEZONE
TZID:Asia/Kuala_Lumpur
X-LIC-LOCATION:Asia/Kuala_Lumpur
BEGIN:STANDARD
DTSTART:20230904T093000
TZOFFSETFROM:+0800
TZOFFSETTO:+0800
TZNAME:+08
END:STANDARD
END:VTIMEZONE
END:VCALENDAR