BEGIN:VCALENDAR
VERSION:2.0
PRODID:-//wp-events-plugin.com//7.2.3.1//EN
TZID:Asia/Kuala_Lumpur
X-WR-TIMEZONE:Asia/Kuala_Lumpur
BEGIN:VEVENT
UID:31@apacph.org
DTSTART;TZID=Asia/Kuala_Lumpur:20251118T090000
DTEND;TZID=Asia/Kuala_Lumpur:20251118T163000
DTSTAMP:20251023T024037Z
URL:https://www.apacph.org/wp/events/health-economics-workshop-2/
SUMMARY:Health Economics Workshop
DESCRIPTION:Date: 18 November 2025Time: 9:00 AM – 4:30 PMVenue: Bilik Fak
 ulti\, Faculty of Medicine\, Universiti Malaya\nOrganised by:Asia-Pacific 
 Academic Consortium for Public Health (APACPH)&amp\; Centre for Population
  Health (CePH)\, Universiti Malaya\n\nOverview\nThis interactive workshop 
 offers a comprehensive introduction to health economics principles and the
 ir practical applications in healthcare decision-making. Participants will
  gain foundational knowledge in cost-effectiveness analysis (CEA) — incl
 uding study design\, modeling techniques\, and costing methods — essenti
 al for evaluating and optimizing public health interventions.\n\nWho Shoul
 d Attend\nThis workshop is ideal for public health professionals\, researc
 hers\, postgraduate students\, policymakers\, and healthcare practitioners
  interested in understanding and applying economic evaluation tools in hea
 lth research and policy.\n\nRegistration\nSeats are limited (max 40 partic
 ipants).Register Here\n\nContact\nFor enquiries\, please contact the APACP
 H Secretariat at contact@apacph.org.\n
ATTACH;FMTTYPE=image/jpeg:https://i0.wp.com/www.apacph.org/wp/wp-content/u
 ploads/2025/10/PHOTO-2025-10-22-10-31-09.jpg?fit=763%2C1080&ssl=1
CATEGORIES:Workshop
END:VEVENT
BEGIN:VTIMEZONE
TZID:Asia/Kuala_Lumpur
X-LIC-LOCATION:Asia/Kuala_Lumpur
BEGIN:STANDARD
DTSTART:20241118T090000
TZOFFSETFROM:+0800
TZOFFSETTO:+0800
TZNAME:+08
END:STANDARD
END:VTIMEZONE
END:VCALENDAR