BEGIN:VCALENDAR
VERSION:2.0
PRODID:-//wp-events-plugin.com//7.2.3.1//EN
TZID:Asia/Kuala_Lumpur
X-WR-TIMEZONE:Asia/Kuala_Lumpur
BEGIN:VEVENT
UID:27@apacph.org
DTSTART;TZID=Asia/Colombo:20250713T080000
DTEND;TZID=Asia/Colombo:20250716T170000
DTSTAMP:20250408T040847Z
URL:https://www.apacph.org/wp/events/global-public-health-summit-2025/
SUMMARY:Global Public Health Summit 2025
DESCRIPTION:The Global Public Health Summit 2025 and 30th Annual Academic 
 Sessions of CCPSL gather public health professionals\, policymakers\, res
 earchers\, and global health leaders dedicated to addressing the most pre
 ssing health challenges in resource-limited settings.\n\nThere has never 
 been a greater need for resilient\, adaptable\, and sustainable health sys
 tems in today's era of globalisation\, pandemics\, and health risks associ
 ated with climate change. Low- and middle-income countries (LMICs) often e
 xemplify resilience and efficiency\, creating innovative strategies to opt
 imise their limited resources.\n\nThe summit will focus on several key are
 as. It will highlight best practices from resource-limited settings that c
 an be applied globally\, as well as innovative health policies and system 
 reforms that promote better governance. In addition\, the summit will expl
 ore advancements in digital health and artificial intelligence to improve 
 access to healthcare. Strategies for epidemic preparedness\, prevention\, 
 and response will also be discussed. Finally\, the summit will emphasise t
 he importance of collaboration across disciplines\, sectors\, and regions 
 to develop sustainable health solutions.\n\nTheme: Learning from Resource-
 Limited Settings\nFocus: Global Health Leadership through Sustainable Solu
 tions\n\nPublic health systems worldwide are facing increasing challenges 
 due to rising disease burdens\, climate change\, health inequalities\, an
 d resource constraints. This summit provides a collaborative platform to
  explore innovative\, evidence-based solutions that ensure equitable an
 d accessible healthcare for all.\n\nSubmit an abstract
ATTACH;FMTTYPE=image/jpeg:https://i0.wp.com/www.apacph.org/wp/wp-content/u
 ploads/2025/04/GlobalPublicHealthSummit2025-5.jpg?fit=595%2C842&ssl=1
CATEGORIES:Conference
LOCATION:Hilton Colombo Residences\, Sri Lanka\, 200 Union Place\, Colombo\
 , 00020\, Sri Lanka
X-APPLE-STRUCTURED-LOCATION;VALUE=URI;X-ADDRESS=200 Union Place\, Colombo\,
  00020\, Sri Lanka;X-APPLE-RADIUS=100;X-TITLE=Hilton Colombo Residences\, 
 Sri Lanka:geo:0,0
END:VEVENT
BEGIN:VTIMEZONE
TZID:Asia/Colombo
X-LIC-LOCATION:Asia/Colombo
BEGIN:STANDARD
DTSTART:20240713T080000
TZOFFSETFROM:+0530
TZOFFSETTO:+0530
TZNAME:+0530
END:STANDARD
END:VTIMEZONE
END:VCALENDAR