BEGIN:VCALENDAR
VERSION:2.0
PRODID:-//wp-events-plugin.com//7.2.3.1//EN
TZID:Asia/Kuala_Lumpur
X-WR-TIMEZONE:Asia/Kuala_Lumpur
BEGIN:VEVENT
UID:30@apacph.org
DTSTART;TZID=Asia/Bangkok:20251104T140000
DTEND;TZID=Asia/Bangkok:20251104T170000
DTSTAMP:20250929T024003Z
URL:https://www.apacph.org/wp/events/early-career-network-ecn-pre-workshop
 -complimentary-registration/
SUMMARY:Early Career Network (ECN) Pre-Workshop – APACPH Conference 2025
DESCRIPTION:You are cordially invited to participate in the Early Career Ne
 twork (ECN) Pre-Workshop\, held in conjunction with the APACPH Conference 
 2025.\n\nDate &amp\; Time: 4 November 2025\, 2:00–5:00 PMVenue: Room 509
 \, 5th Floor\, E4 Building\nThis pre-workshop is complimentary for:\n\n\n 
 	\nYITA Award recipients\n\n 	\nPostgraduate and graduate students\n\n 	\n
 Early-career staff members\n\n\nParticipation is limited to 50 seats\, all
 ocated on a first-come\, first-served basis.\nWe encourage you to reserve 
 your seat early and look forward to welcoming you at the event.\nPlease re
 gister using the same platform as the main conference:\nRegister here\nWhe
 n completing the registration form\, please select the additional pre-conf
 erence workshop option to secure your seat.\nWe encourage you to reserve e
 arly\, and we look forward to welcoming you at the event.
CATEGORIES:Conference,Workshop
END:VEVENT
BEGIN:VTIMEZONE
TZID:Asia/Bangkok
X-LIC-LOCATION:Asia/Bangkok
BEGIN:STANDARD
DTSTART:20241104T140000
TZOFFSETFROM:+0700
TZOFFSETTO:+0700
TZNAME:+07
END:STANDARD
END:VTIMEZONE
END:VCALENDAR