BEGIN:VCALENDAR
VERSION:2.0
PRODID:-//wp-events-plugin.com//7.2.3.1//EN
TZID:Asia/Kuala_Lumpur
X-WR-TIMEZONE:Asia/Kuala_Lumpur
BEGIN:VEVENT
UID:29@apacph.org
DTSTART:20250904T130000Z
DTEND:20251113T143000Z
DTSTAMP:20250818T025604Z
URL:https://www.apacph.org/wp/events/climate-ready-classrooms-public-healt
 h-faculty-development-course/
SUMMARY:Climate Ready Classrooms – Public Health Faculty Development Cour
 se
DESCRIPTION:APACPH is pleased to share this opportunity from the Global Net
 work for Academic Public Health (GNAPH) and the Global Consortium for Clim
 ate and Health Education.\n\nDates: September 4 – November 13\, 2025\nFo
 rmat: Live and asynchronous\nAudience: Faculty from schools and programs o
 f public health\n\nThis faculty development course is designed to help edu
 cators integrate climate change and health topics into their teaching. Par
 ticipants will gain tools and resources to prepare the next generation of 
 public health professionals for climate challenges.\n\nClick here for more
  details &amp\; registration
ATTACH;FMTTYPE=image/jpeg:https://i0.wp.com/www.apacph.org/wp/wp-content/u
 ploads/2025/08/Screenshot-2025-08-13-at-8.50.42-AM.png?fit=1717%2C569&ssl=
 1
END:VEVENT
END:VCALENDAR