BEGIN:VCALENDAR
VERSION:2.0
PRODID:-//wp-events-plugin.com//7.2.3.1//EN
TZID:Asia/Kuala_Lumpur
X-WR-TIMEZONE:Asia/Kuala_Lumpur
BEGIN:VEVENT
UID:19@apacph.org
DTSTART;TZID=Asia/Colombo:20200430T090000
DTEND;TZID=Asia/Colombo:20200430T120000
DTSTAMP:20200426T234607Z
URL:https://www.apacph.org/wp/events/breaking-the-transmission-chain-throu
 gh-community-participation/
SUMMARY:Breaking the transmission chain through community participation
DESCRIPTION:The Asia-Pacific Academic Consortium for Public Health in colla
 boration with the Sri Lanka Medical Association will be organising the fir
 st APACPH International Webinar on COVID-19 on the 30 April 2020 at 0900 I
 ndian Standard Time (+5GMT). The topic for discussion for this APACPH Inte
 rnational Webinar is "Breaking the transmission chain through community pa
 rticipation". This will be the first of a series of APACPH International W
 ebinar on COVID-19.\n\nPanellist:\n\n	Professor Colin Binns\, School of Pu
 blic Health\, Curtin University\, Australia\n	Professor Gordon G Liu\, Pek
 ing University\, Beijing\, P R China\n	Professor Malik Peiris\, Hong Kong 
 University\, School of Public Health\n	Professor Awang Bulgiba Awang Mahmu
 d\, Faculty of Medicine\, University of Malaya\n	Hon. Prvithra Wanniarachc
 hi\, Minister of Health\, Sri Lanka\n	Professor Teo Yik Ying\, Dean\, Saw 
 Swee Hock\, School of Public Health\, National University of Singapore\n	L
 ieutenant General Shavendra Silva\, Commander Sri Lanka Army & Head of Nat
 ional Operation Center for Prevention of COVID19 Outbreak\, Sri Lanka\n	Dr
  Anil Jasinghe\, Director General of Health Services\n	Dr Ananda Wijewickr
 ama\, Chief Consultant Physician\, National Infectioud Disease Hospital\, 
 Sri Lanka\n\n\nModerator\n\n	Professor Low Wah Yun\, President APACPH\, Un
 iversity of Malaya\, Malaysia\n	Professor Indika Karunathilake\, Vice Pres
 ident APACPH & President of Sri Lanka Medical Association\n\n\nWebinar Lin
 k
ATTACH;FMTTYPE=image/jpeg:https://i0.wp.com/www.apacph.org/wp/wp-content/u
 ploads/2020/04/fc8a8a61-8563-4775-9155-7df96a76ea18.png?fit=597%2C271&ssl=
 1
CATEGORIES:Webinar
END:VEVENT
BEGIN:VTIMEZONE
TZID:Asia/Colombo
X-LIC-LOCATION:Asia/Colombo
BEGIN:STANDARD
DTSTART:20190501T090000
TZOFFSETFROM:+0530
TZOFFSETTO:+0530
TZNAME:+0530
END:STANDARD
END:VTIMEZONE
END:VCALENDAR