BEGIN:VCALENDAR
VERSION:2.0
PRODID:-//wp-events-plugin.com//7.2.3.1//EN
TZID:Asia/Kuala_Lumpur
X-WR-TIMEZONE:Asia/Kuala_Lumpur
BEGIN:VEVENT
UID:18@apacph.org
DTSTART;TZID=Asia/Kuala_Lumpur:20190411T083000
DTEND;TZID=Asia/Kuala_Lumpur:20190412T170000
DTSTAMP:20190107T103419Z
URL:https://www.apacph.org/wp/events/apacph-kl-early-career-global-health-
 conference-implementation-science-for-improving-population-health/
SUMMARY:APACPH-KL Early Career Global Health Conference - "Implementation S
 cience for Improving Population Health"
DESCRIPTION:he Asia-Pacific Academic Consortium for Public Health-Kuala Lum
 pur (APACPH-KL) together with Department of Social and Preventive Medicine
 \, Faculty of Medicine\, University of Malaya and Centre for Population He
 alth\, University of Malaya would like to invite all to the APACPH-KL Earl
 y Career Global Health Conference – “Implementation Science for Improv
 ing Population Health”. It will be held at the Faculty of Medicine\, the
  University of Malaya on the 11 and 12 April 2019. \n
CATEGORIES:Conference
LOCATION:Faculty of Medicine\, University of Malaya\, Faculty of Medicine\,
  University of Malaya\, Kuala Lumpur\, 50603\, Malaysia
GEO:3.11566243454932;101.65340400000002
X-APPLE-STRUCTURED-LOCATION;VALUE=URI;X-ADDRESS=Faculty of Medicine\, Unive
 rsity of Malaya\, Kuala Lumpur\, 50603\, Malaysia;X-APPLE-RADIUS=100;X-TIT
 LE=Faculty of Medicine\, University of Malaya:geo:3.11566243454932,101.653
 40400000002
END:VEVENT
BEGIN:VTIMEZONE
TZID:Asia/Kuala_Lumpur
X-LIC-LOCATION:Asia/Kuala_Lumpur
BEGIN:STANDARD
DTSTART:20180411T083000
TZOFFSETFROM:+0800
TZOFFSETTO:+0800
TZNAME:+08
END:STANDARD
END:VTIMEZONE
END:VCALENDAR