BEGIN:VCALENDAR
VERSION:2.0
PRODID:-//wp-events-plugin.com//7.2.3.1//EN
TZID:Asia/Kuala_Lumpur
X-WR-TIMEZONE:Asia/Kuala_Lumpur
BEGIN:VEVENT
UID:20@apacph.org
DTSTART;TZID=Asia/Kuala_Lumpur:20200616T110000
DTEND;TZID=Asia/Kuala_Lumpur:20200616T130000
DTSTAMP:20200616T224940Z
URL:https://www.apacph.org/wp/events/apacph-international-webinar-2-0-on-c
 ovid-19-pandemic/
SUMMARY:APACPH International Webinar 2.0 on COVID 19 Pandemic
DESCRIPTION:The Asia-Pacific Academic Consortium for Public Health will be 
 organising the "APACPH International Webinar 2.0 on COVID-19 pandemic - De
 veloping and Accomplishing COVID-19 Exit Strategy Plan" on the 16th June 2
 020 (Tuesday) at 11.00am (Malaysia/Singapore/Taiwan) / 10.00am (Vietnam).\
 n\nModerator:\n\n	Dr. Teo Yik Ying - Dean\, Saw Swee Hock School of Public
  Health\, National University of Singapore\, Singapore.\n\n	Wah Yun Low\, 
 President\, Asia-Pacific Academic Consortium for Public Health and Deputy 
 Executive Director\, Asia Europe Institute\, University of Malaya\, Kuala 
 Lumpur\, Malaysia\n\n\n\nPenalists:\n\n\n	Dr. Dong-il Ahn\, Visiting Profe
 ssor\, Graduate School of Public Health\, Yonsei University\, Republic of 
 Korea.\n	Dr Le Thi Kim Anh\, Department of Public Health\, Hanoi Universit
 y of Public Health\, Vietnam\n\n	Dr Chanuantong Tanasugarn\, Professor and
  Dean\, Faculty of Public Health\, Mahidol University\, Thailand.\n\nDr. P
 hilip Yi-Chun Lo\, Deputy Director-General\, Centers for Disease Control\,
  Ministry of Health and Welfare\, Taiwan.\n	Dr. Awg Bulgiba Awg Mahmud\, P
 rofessor\, Department of Social & Preventive Medicine\, Faculty of Medicin
 e\, University of Malaya\, Malaysia.\n\n\nRegistration:\n\nPlease complete
  the application form\n[wpforms id="4803"]\n\n\n\n\n\n\n
CATEGORIES:Webinar
END:VEVENT
BEGIN:VTIMEZONE
TZID:Asia/Kuala_Lumpur
X-LIC-LOCATION:Asia/Kuala_Lumpur
BEGIN:STANDARD
DTSTART:20190617T110000
TZOFFSETFROM:+0800
TZOFFSETTO:+0800
TZNAME:+08
END:STANDARD
END:VTIMEZONE
END:VCALENDAR