BEGIN:VCALENDAR
VERSION:2.0
PRODID:-//wp-events-plugin.com//7.2.3.1//EN
TZID:Asia/Kuala_Lumpur
X-WR-TIMEZONE:Asia/Kuala_Lumpur
BEGIN:VEVENT
UID:1@apacph.org
DTSTART;TZID=Asia/Kuala_Lumpur:20160915T130000
DTEND;TZID=Asia/Kuala_Lumpur:20160915T170000
DTSTAMP:20160910T083622Z
URL:https://www.apacph.org/wp/events/apacph-2016-workshop-1-workshop-on-ho
 w-to-get-your-paper-published/
SUMMARY:Tokyo 2016 Workshop 1 - Workshop on how to get your paper published
DESCRIPTION:Getting your paper published is a challenge for all public heal
 th researchers and practitioners. After putting a lot of work into your re
 search and then making an effort to write the results in a way that will b
 e of value to others\, it is depressing to receive a rejection letter. In 
 this workshop we will discuss the best ways to present your results and sh
 ow examples of a ways to improve communication and increase the likelihood
  of your paper being published.
ATTACH;FMTTYPE=image/jpeg:https://i0.wp.com/www.apacph.org/wp/wp-content/u
 ploads/2016/09/apacph2016.png?fit=699%2C688&ssl=1
CATEGORIES:Tokyo 2016,Workshop
LOCATION:Teikyo University Itabashi-Campus\, Teikyo University\, Itabashi\,
  Tokyo\, Japan
GEO:35.75889634409177;139.7139643878662
X-APPLE-STRUCTURED-LOCATION;VALUE=URI;X-ADDRESS=Teikyo University\, Itabash
 i\, Tokyo\, Japan;X-APPLE-RADIUS=100;X-TITLE=Teikyo University Itabashi-Ca
 mpus:geo:35.75889634409177,139.7139643878662
END:VEVENT
BEGIN:VTIMEZONE
TZID:Asia/Kuala_Lumpur
X-LIC-LOCATION:Asia/Kuala_Lumpur
BEGIN:STANDARD
DTSTART:20150916T130000
TZOFFSETFROM:+0800
TZOFFSETTO:+0800
TZNAME:+08
END:STANDARD
END:VTIMEZONE
END:VCALENDAR