BEGIN:VCALENDAR
VERSION:2.0
PRODID:-//wp-events-plugin.com//7.2.3.1//EN
TZID:Asia/Kuala_Lumpur
X-WR-TIMEZONE:Asia/Kuala_Lumpur
BEGIN:VEVENT
UID:21@apacph.org
DTSTART;TZID=Asia/Taipei:20200911T100000
DTEND;TZID=Asia/Taipei:20200911T165000
DTSTAMP:20200910T070635Z
URL:https://www.apacph.org/wp/events/after-covid-19-paradigm-shift-in-publ
 ic-health-education/
SUMMARY:After COVID-19: Paradigm shift in public health education
DESCRIPTION:The Asia-Pacific Academic Consortium for Public Health Collabor
 ating Centres for Health Promotion and Yonsei University is organising the
  APACPH Education Webinar on Post-COVID-19: After COVID-19: Paradigm shift
  in Public Health education on the 11 September 2020. 
ATTACH;FMTTYPE=image/jpeg:https://i0.wp.com/www.apacph.org/wp/wp-content/u
 ploads/2020/08/APACPH-CCHP-webinar-bunting.jpg?fit=688%2C1054&ssl=1
CATEGORIES:Webinar
LOCATION:https://www.apacph.org/wp/events/
END:VEVENT
BEGIN:VTIMEZONE
TZID:Asia/Taipei
X-LIC-LOCATION:Asia/Taipei
BEGIN:STANDARD
DTSTART:20190912T100000
TZOFFSETFROM:+0800
TZOFFSETTO:+0800
TZNAME:CST
END:STANDARD
END:VTIMEZONE
END:VCALENDAR