BEGIN:VCALENDAR
VERSION:2.0
PRODID:-//wp-events-plugin.com//7.2.3.1//EN
TZID:Asia/Kuala_Lumpur
X-WR-TIMEZONE:Asia/Kuala_Lumpur
BEGIN:VEVENT
UID:10@apacph.org
DTSTART;TZID=Asia/Kuala_Lumpur:20170718T080000
DTEND;TZID=Asia/Kuala_Lumpur:20170719T180000
DTSTAMP:20170415T040138Z
URL:https://www.apacph.org/wp/events/aceh-global-health-int-conf-2017/
SUMMARY:Aceh Global Health International Conference 2017
DESCRIPTION:The Aceh Global Health International Conference 2017 (AGHIC 201
 7) will be held on 18th and 19th July 2017 at the UCC Ahmad Dahlan Hall\, 
 Muhammadiyah University Aceh. 
ATTACH;FMTTYPE=image/jpeg:https://i0.wp.com/www.apacph.org/wp/wp-content/u
 ploads/2017/04/NewAghic2017.png?fit=550%2C115&ssl=1
CATEGORIES:Conference
LOCATION:Gedung UCC Ahmad Dahlan\, Batoh\, Lueng Bata\,\, Banda Aceh City\,
  Aceh\, Indonesia
GEO:5.535228900000001;95.3285505
X-APPLE-STRUCTURED-LOCATION;VALUE=URI;X-ADDRESS=Batoh\, Lueng Bata\,\, Band
 a Aceh City\, Aceh\, Indonesia;X-APPLE-RADIUS=100;X-TITLE=Gedung UCC Ahmad
  Dahlan:geo:5.535228900000001,95.3285505
END:VEVENT
BEGIN:VTIMEZONE
TZID:Asia/Kuala_Lumpur
X-LIC-LOCATION:Asia/Kuala_Lumpur
BEGIN:STANDARD
DTSTART:20160718T080000
TZOFFSETFROM:+0800
TZOFFSETTO:+0800
TZNAME:+08
END:STANDARD
END:VTIMEZONE
END:VCALENDAR