BEGIN:VCALENDAR
VERSION:2.0
PRODID:-//wp-events-plugin.com//7.2.3.1//EN
TZID:Asia/Kuala_Lumpur
X-WR-TIMEZONE:Asia/Kuala_Lumpur
BEGIN:VEVENT
UID:14@apacph.org
DTSTART;TZID=Asia/Kuala_Lumpur:20171112T083000
DTEND;TZID=Asia/Kuala_Lumpur:20171114T173000
DTSTAMP:20170530T011354Z
URL:https://www.apacph.org/wp/events/5th-ahla-international-health-literac
 y-conference/
SUMMARY:5th AHLA International Health Literacy Conference
DESCRIPTION:The 5th AHLA International Health Literacy Conference will be h
 eld at the Research Management and Innovation Complex\, University of Mala
 ya\, Kuala Lumpur\, Malaysia. The theme for this year's conference is "Hea
 lth Literacy and Population Health".
CATEGORIES:Conference
LOCATION:Research Management and Innovation Complex\, University of Malaya\
 , 833\, Lingkungan Budi\, Kuala Lumpur\, 50603\, Malaysia
GEO:3.1231226;101.66039999999998
X-APPLE-STRUCTURED-LOCATION;VALUE=URI;X-ADDRESS=833\, Lingkungan Budi\, Kua
 la Lumpur\, 50603\, Malaysia;X-APPLE-RADIUS=100;X-TITLE=Research Managemen
 t and Innovation Complex\, University of Malaya:geo:3.1231226,101.66039999
 999998
END:VEVENT
BEGIN:VTIMEZONE
TZID:Asia/Kuala_Lumpur
X-LIC-LOCATION:Asia/Kuala_Lumpur
BEGIN:STANDARD
DTSTART:20161112T083000
TZOFFSETFROM:+0800
TZOFFSETTO:+0800
TZNAME:+08
END:STANDARD
END:VTIMEZONE
END:VCALENDAR