BEGIN:VCALENDAR
VERSION:2.0
PRODID:-//wp-events-plugin.com//7.2.3.1//EN
TZID:Asia/Kuala_Lumpur
X-WR-TIMEZONE:Asia/Kuala_Lumpur
BEGIN:VEVENT
UID:32@apacph.org
DTSTART;TZID=Asia/Taipei:20261020T080000
DTEND;TZID=Asia/Taipei:20261023T180000
DTSTAMP:20251106T074515Z
URL:https://www.apacph.org/wp/events/57th-apacph-conference-2026/
SUMMARY:57th APACPH Conference 2026
DESCRIPTION:The 57th conference of the Asia-Pacific Academic Consortium for
  Public Health (APACPH) will take place from October 20 to 23\, 2026\, in 
 Tainan\, Taiwan\, at National Cheng Kung University (NCKU).
CATEGORIES:Conference
LOCATION:National Cheng Kung University\,  No. 1 University Road\, East 
 District\, Tainan City\, 701\, Taiwan
X-APPLE-STRUCTURED-LOCATION;VALUE=URI;X-ADDRESS= No. 1 University Road\,
  East District\, Tainan City\, 701\, Taiwan;X-APPLE-RADIUS=100;X-TITLE=Nat
 ional Cheng Kung University:geo:0,0
END:VEVENT
BEGIN:VTIMEZONE
TZID:Asia/Taipei
X-LIC-LOCATION:Asia/Taipei
BEGIN:STANDARD
DTSTART:20251020T080000
TZOFFSETFROM:+0800
TZOFFSETTO:+0800
TZNAME:CST
END:STANDARD
END:VTIMEZONE
END:VCALENDAR