BEGIN:VCALENDAR
VERSION:2.0
PRODID:-//wp-events-plugin.com//7.2.3.1//EN
TZID:Asia/Kuala_Lumpur
X-WR-TIMEZONE:Asia/Kuala_Lumpur
BEGIN:VEVENT
UID:9@apacph.org
DTSTART;TZID=Asia/Kuala_Lumpur:20170817T080000
DTEND;TZID=Asia/Kuala_Lumpur:20170819T180000
DTSTAMP:20170415T151628Z
URL:https://www.apacph.org/wp/events/49-apacph-incheon-korea/
SUMMARY:49th APACPH Conference in Incheon\, Korea
DESCRIPTION:The 49th Conference of the Asia-Pacific Academic Consortium for
  Public Health (APACPH) Conference and General Assembly will be held at Yo
 nsei University\, Incheon\, Korea on the 17-19 August 2017. The theme for 
 this conference is “The Age of Shifting Paradigm: SDGs\, New Approach fo
 r Public Health”. 
CATEGORIES:Conference,Icheon 2017
LOCATION:Yonsei University International Campus\, Yonsei University Interna
 tional Campus\, Yonsei University 85 Songdogwahak-ro\, Yeonsu-gu\, 21983\,
  Icheon\, South Korea
GEO:37.3825244;126.67112980000002
X-APPLE-STRUCTURED-LOCATION;VALUE=URI;X-ADDRESS=Yonsei University Internati
 onal Campus\, Yonsei University 85 Songdogwahak-ro\, Yeonsu-gu\, 21983\, I
 cheon\, South Korea;X-APPLE-RADIUS=100;X-TITLE=Yonsei University Internati
 onal Campus:geo:37.3825244,126.67112980000002
END:VEVENT
BEGIN:VTIMEZONE
TZID:Asia/Kuala_Lumpur
X-LIC-LOCATION:Asia/Kuala_Lumpur
BEGIN:STANDARD
DTSTART:20160817T080000
TZOFFSETFROM:+0800
TZOFFSETTO:+0800
TZNAME:+08
END:STANDARD
END:VTIMEZONE
END:VCALENDAR