BEGIN:VCALENDAR
VERSION:2.0
PRODID:-//wp-events-plugin.com//7.2.3.1//EN
TZID:Asia/Kuala_Lumpur
X-WR-TIMEZONE:Asia/Kuala_Lumpur
BEGIN:VEVENT
UID:28@apacph.org
DTSTART;TZID=Asia/Taipei:20250826T090000
DTEND;TZID=Asia/Taipei:20250827T170000
DTSTAMP:20250818T024503Z
URL:https://www.apacph.org/wp/events/2025-asia-pacific-health-promotion-an
 d-ncd-prevention-workshop-taipei/
SUMMARY:2025 Asia Pacific Health Promotion and Non-Communicable Disease (NC
 D) Prevention Workshop (August 26–27\, 2025) in Taipei City\, Taiwan
DESCRIPTION:Dear respective APACPH members and partners\,\nWe sincerely inv
 ite you to join us and help share the information of this year’s open wo
 rkshop\, held on August 26–27\,2025\, in Taipei City\, Taiwan. This annu
 al event is guided by the Taiwan Health Promotion Administration\, and co-
 hosted by the Collaborating Centres for Health Promotion (CCHP) under the 
 Asia-Pacific Academic Consortium for Public Health (APACPH)\, and the Taiw
 an Association for Global Health Initiative (TAGHI).\nThis two-day worksho
 p focuses on cancer prevention and health promotion strategies in the Asia
 -Pacific region\, with special attention to colorectal cancer screening an
 d future policy development. Distinguished speakers from Japan\, Korea\, S
 ingapore\, and Taiwan will share their insights\, experiences\, and practi
 cal strategies for advancing cancer prevention and health promotion across
  different national systems.\nThe entire workshop will be conducted in Eng
 lish\, and we warmly welcome professionals\, students\, and all those inte
 rested in public health and health promotion to join us in this regional d
 ialogue.\n\nWorkshop Details\nDate &amp\; Time:\nDay 1｜August 26 (Tue)\,
  13:00–17:00 (Taiwan Time)\nDay 2｜August 27 (Wed)\, 09:00–12:00 (Tai
 wan Time)\n\nWorkshop Themes\nDay 1｜Colorectal Cancer Screening\, Preven
 tion and Health Promotion Strategies in the Asia-Pacific Region\nDay 2｜F
 rom Colorectal to Comprehensive: Future Policy Directions for Cancer Preve
 ntion and Control\n\nVenue\nRoom 201\, College of Public Health\, National
  Taiwan University\n(No. 17\, Xuzhou Road\, Zhongzheng District\, Taipei C
 ity\, Taiwan)\n\nRegistration Information\nDue to venue capacity limits\, 
 please register before 12:00 noon on August 20 (Taiwan time)\, 2025  to 
 secure your seat.\nRegistration link:  https://forms.gle/KsVnUHwTc83CeBwh
 7\n(The organizer reserves the right to make the final decision regarding 
 attendance)\nWe sincerely welcome your participation and kindly ask you to
  help circulate this invitation across your networks\, departments\, and i
 nstitutions. Let’s work together to strengthen health promotion capaciti
 es across the Asia-Pacific region!\nAdvisory Organization: Health Promotio
 n Administration\, Ministry of Health and Welfare\, Taiwan\nOrganizers: Co
 llaborating Centres for Health Promotion (CCHP)\, Taiwan Association for G
 lobal Health Initiative (TAGHI)\nCo-organizers: Institute of Population H
 ealth Sciences\, National Health Research Institutes (NHRI)\; Institute of
  Health Behavior and Community Sciences\, National Taiwan University\; Fed
 eration of Public Health Student Associations in Taiwan
ATTACH;FMTTYPE=image/jpeg:https://i0.wp.com/www.apacph.org/wp/wp-content/u
 ploads/2025/07/poster_08.14-scaled.jpg?fit=1754%2C2560&ssl=1
CATEGORIES:Workshop
END:VEVENT
BEGIN:VTIMEZONE
TZID:Asia/Taipei
X-LIC-LOCATION:Asia/Taipei
BEGIN:STANDARD
DTSTART:20240826T090000
TZOFFSETFROM:+0800
TZOFFSETTO:+0800
TZNAME:CST
END:STANDARD
END:VTIMEZONE
END:VCALENDAR